BEGIN:VCALENDAR
VERSION:2.0
PRODID:-//Westchester School of Music - ECPv6.15.17.1//NONSGML v1.0//EN
CALSCALE:GREGORIAN
METHOD:PUBLISH
X-ORIGINAL-URL:https://musicschoolofwestchester.com
X-WR-CALDESC:Events for Westchester School of Music
REFRESH-INTERVAL;VALUE=DURATION:PT1H
X-Robots-Tag:noindex
X-PUBLISHED-TTL:PT1H
BEGIN:VTIMEZONE
TZID:UTC
BEGIN:STANDARD
TZOFFSETFROM:+0000
TZOFFSETTO:+0000
TZNAME:UTC
DTSTART:20180101T000000
END:STANDARD
END:VTIMEZONE
BEGIN:VEVENT
DTSTART;VALUE=DATE:20200525
DTEND;VALUE=DATE:20200526
DTSTAMP:20260423T202336
CREATED:20170801T161906Z
LAST-MODIFIED:20190904T014204Z
UID:1772-1590364800-1590451199@musicschoolofwestchester.com
SUMMARY:School Closed: Memorial Day
DESCRIPTION:
URL:https://musicschoolofwestchester.com/event/school-closed-memorial-day/
LOCATION:MSW\, 875 Mamaroneck Avenue\, Suite 100\, Mamaroneck\, NY\, 10543\, United States
CATEGORIES:School Closed
ORGANIZER;CN="MSW":MAILTO:msw1328@gmail.com
END:VEVENT
BEGIN:VEVENT
DTSTART;TZID=UTC:20200406T080000
DTEND;TZID=UTC:20200411T210000
DTSTAMP:20260423T202336
CREATED:20170801T161740Z
LAST-MODIFIED:20190904T013826Z
UID:1768-1586160000-1586638800@musicschoolofwestchester.com
SUMMARY:School Closed: Spring Recess
DESCRIPTION:
URL:https://musicschoolofwestchester.com/event/school-closed-spring-recess/
LOCATION:MSW\, 875 Mamaroneck Avenue\, Suite 100\, Mamaroneck\, NY\, 10543\, United States
CATEGORIES:School Closed
ORGANIZER;CN="MSW":MAILTO:msw1328@gmail.com
END:VEVENT
BEGIN:VEVENT
DTSTART;TZID=UTC:20200217T080000
DTEND;TZID=UTC:20200222T210000
DTSTAMP:20260423T202336
CREATED:20170801T161410Z
LAST-MODIFIED:20190904T013613Z
UID:1762-1581926400-1582405200@musicschoolofwestchester.com
SUMMARY:School Closed: Winter Recess
DESCRIPTION:
URL:https://musicschoolofwestchester.com/event/school-closed-winter-recess/
LOCATION:MSW\, 875 Mamaroneck Avenue\, Suite 100\, Mamaroneck\, NY\, 10543\, United States
CATEGORIES:School Closed
ORGANIZER;CN="MSW":MAILTO:msw1328@gmail.com
END:VEVENT
BEGIN:VEVENT
DTSTART;TZID=UTC:20191223T080000
DTEND;TZID=UTC:20200104T210000
DTSTAMP:20260423T202336
CREATED:20170801T161318Z
LAST-MODIFIED:20190904T013404Z
UID:1760-1577088000-1578171600@musicschoolofwestchester.com
SUMMARY:School Closed: Holiday Recess
DESCRIPTION:
URL:https://musicschoolofwestchester.com/event/school-closed-holiday-recess/
LOCATION:MSW\, 875 Mamaroneck Avenue\, Suite 100\, Mamaroneck\, NY\, 10543\, United States
CATEGORIES:School Closed
ORGANIZER;CN="MSW":MAILTO:msw1328@gmail.com
END:VEVENT
BEGIN:VEVENT
DTSTART;TZID=UTC:20191127T080000
DTEND;TZID=UTC:20191130T170000
DTSTAMP:20260423T202336
CREATED:20170801T161055Z
LAST-MODIFIED:20190904T013300Z
UID:1754-1574841600-1575133200@musicschoolofwestchester.com
SUMMARY:School Closed: Thanksgiving Recess
DESCRIPTION:
URL:https://musicschoolofwestchester.com/event/school-closed-thanksgiving-recess/
LOCATION:MSW\, 875 Mamaroneck Avenue\, Suite 100\, Mamaroneck\, NY\, 10543\, United States
CATEGORIES:School Closed
ORGANIZER;CN="MSW":MAILTO:msw1328@gmail.com
END:VEVENT
END:VCALENDAR